BEGIN:VCALENDAR
VERSION:2.0
PRODID:-//Fort Myers-Lee County Garden Council, Inc. - ECPv6.15.20//NONSGML v1.0//EN
CALSCALE:GREGORIAN
METHOD:PUBLISH
X-ORIGINAL-URL:https://fmlcgardencouncil.com
X-WR-CALDESC:Events for Fort Myers-Lee County Garden Council, Inc.
REFRESH-INTERVAL;VALUE=DURATION:PT1H
X-Robots-Tag:noindex
X-PUBLISHED-TTL:PT1H
BEGIN:VTIMEZONE
TZID:America/New_York
BEGIN:DAYLIGHT
TZOFFSETFROM:-0500
TZOFFSETTO:-0400
TZNAME:EDT
DTSTART:20250309T070000
END:DAYLIGHT
BEGIN:STANDARD
TZOFFSETFROM:-0400
TZOFFSETTO:-0500
TZNAME:EST
DTSTART:20251102T060000
END:STANDARD
BEGIN:DAYLIGHT
TZOFFSETFROM:-0500
TZOFFSETTO:-0400
TZNAME:EDT
DTSTART:20260308T070000
END:DAYLIGHT
BEGIN:STANDARD
TZOFFSETFROM:-0400
TZOFFSETTO:-0500
TZNAME:EST
DTSTART:20261101T060000
END:STANDARD
BEGIN:DAYLIGHT
TZOFFSETFROM:-0500
TZOFFSETTO:-0400
TZNAME:EDT
DTSTART:20270314T070000
END:DAYLIGHT
BEGIN:STANDARD
TZOFFSETFROM:-0400
TZOFFSETTO:-0500
TZNAME:EST
DTSTART:20271107T060000
END:STANDARD
END:VTIMEZONE
BEGIN:VEVENT
DTSTART;TZID=America/New_York:20260317T100000
DTEND;TZID=America/New_York:20260317T120000
DTSTAMP:20260421T214322
CREATED:20260107T062023Z
LAST-MODIFIED:20260107T062023Z
UID:7935-1773741600-1773748800@fmlcgardencouncil.com
SUMMARY:Free Concert by the SWFL Fiddlers
DESCRIPTION:Bring lunch\, sit in the shade. Natural decorations on display. Free admission and parking. Free garden tours by Master Gardeners. \n 
URL:https://fmlcgardencouncil.com/event/free-concert-by-the-swfl-fiddlers/
LOCATION:Berne Davis Gardens
CATEGORIES:Community Event
END:VEVENT
BEGIN:VEVENT
DTSTART;TZID=America/New_York:20260314T090000
DTEND;TZID=America/New_York:20260314T150000
DTSTAMP:20260421T214322
CREATED:20260106T120948Z
LAST-MODIFIED:20260106T120948Z
UID:7939-1773478800-1773500400@fmlcgardencouncil.com
SUMMARY:March in the Park Plant Sale
DESCRIPTION:
URL:https://fmlcgardencouncil.com/event/march-in-the-park-plant-sale/
LOCATION:Rotary Park\, 5505 Rose Garden Rd\, Cape Coral\, FL\, United States
CATEGORIES:Community Event
END:VEVENT
BEGIN:VEVENT
DTSTART;TZID=America/New_York:20260222T100000
DTEND;TZID=America/New_York:20260222T160000
DTSTAMP:20260421T214322
CREATED:20260107T060238Z
LAST-MODIFIED:20260107T060238Z
UID:8015-1771754400-1771776000@fmlcgardencouncil.com
SUMMARY:Art in Bloom: a Floral Journey for the Senses
DESCRIPTION:Floral arranging competition\, demonstrations and art-in-action\, live music\, wine tastings.
URL:https://fmlcgardencouncil.com/event/art-in-bloom-a-floral-journey-for-the-senses/
LOCATION:Peace River Botanical and Sculpture Gardens
CATEGORIES:Community Event
END:VEVENT
BEGIN:VEVENT
DTSTART;TZID=America/New_York:20260217T100000
DTEND;TZID=America/New_York:20260217T120000
DTSTAMP:20260421T214322
CREATED:20260107T062115Z
LAST-MODIFIED:20260107T062115Z
UID:7933-1771322400-1771329600@fmlcgardencouncil.com
SUMMARY:Free Concert by the SWFL Fiddlers
DESCRIPTION:Bring lunch\, sit in the shade. Natural decorations on display. Free admission and parking. Free garden tours by Master Gardeners
URL:https://fmlcgardencouncil.com/event/free-concert-by-the-swfl-fiddlers-2/
LOCATION:Berne Davis Gardens
CATEGORIES:Community Event
END:VEVENT
BEGIN:VEVENT
DTSTART;TZID=America/New_York:20260126T100000
DTEND;TZID=America/New_York:20260126T120000
DTSTAMP:20260421T214322
CREATED:20260107T194343Z
LAST-MODIFIED:20260107T194343Z
UID:8028-1769421600-1769428800@fmlcgardencouncil.com
SUMMARY:Free Concert by the SWFL Fiddlers
DESCRIPTION:Bring lunch\, sit in the shade. Natural decorations on display. Free admission and parking. Free garden tours by Master Gardeners
URL:https://fmlcgardencouncil.com/event/free-concert-by-the-swfl-fiddlers-3/
LOCATION:Berne Davis Gardens
CATEGORIES:Community Event
END:VEVENT
END:VCALENDAR